BEGIN:VCALENDAR
VERSION:2.0
PRODID:-//Arthramid - ECPv6.15.0//NONSGML v1.0//EN
CALSCALE:GREGORIAN
METHOD:PUBLISH
X-WR-CALNAME:Arthramid
X-ORIGINAL-URL:https://arthramid.com/eur/
X-WR-CALDESC:Events for Arthramid
REFRESH-INTERVAL;VALUE=DURATION:PT1H
X-Robots-Tag:noindex
X-PUBLISHED-TTL:PT1H
BEGIN:VTIMEZONE
TZID:Asia/Shanghai
BEGIN:STANDARD
TZOFFSETFROM:+0800
TZOFFSETTO:+0800
TZNAME:CST
DTSTART:20260101T000000
END:STANDARD
END:VTIMEZONE
BEGIN:VEVENT
DTSTART;TZID=Asia/Shanghai:20260623T080000
DTEND;TZID=Asia/Shanghai:20260625T170000
DTSTAMP:20260421T202143
CREATED:20260223T000303Z
LAST-MODIFIED:20260326T000028Z
UID:11565-1782201600-1782406800@arthramid.com
SUMMARY:2026 NZVA and NZVNA Conference
DESCRIPTION:2026 NZVA & NZVNA Conference\n23–25 June 2026 | New Zealand International Convention Centre (NZICC)\, Auckland\nThe annual New Zealand Veterinary Association (NZVA) and New Zealand Veterinary Nursing Association (NZVNA) joint conference is back in Auckland\, bringing veterinary professionals together for three days of high-quality CPD\, networking and peer-to-peer learning. \nWhat’s included: \n\nComprehensive scientific programme across multiple streams including companion animal\, dairy cattle\, equine\, epidemiology\, food safety\, animal welfare & biosecurity\, lifestyle block and veterinary business.\nInteractive workshops\, breakfast sessions and a full social programme (details to be confirmed).\nNetworking with industry peers\, exhibitors and sponsors.\n\nDetails on specific plenary speakers and the full programme will be available closer to the event. \nKey events (TBC): \n\nScientific streams covering diverse areas of veterinary practice\, from companion and large animal to business and wellbeing.\nBreakfast sessions with expert speakers on topics including feline internal medicine\, the microbiome and other clinical themes.
URL:https://arthramid.com/eur/event/2026-nzva-and-nzvna-conference/
LOCATION:New Zealand International Convention Centre\, 101 Hobson Street\, Auckland\, QLD\, 1010\, New Zealand
CATEGORIES:CANINE,EQUINE,IN-PERSON
END:VEVENT
END:VCALENDAR