BEGIN:VCALENDAR
VERSION:2.0
PRODID:-//Arthramid - ECPv6.15.0//NONSGML v1.0//EN
CALSCALE:GREGORIAN
METHOD:PUBLISH
X-WR-CALNAME:Arthramid
X-ORIGINAL-URL:https://arthramid.com/ww/
X-WR-CALDESC:Events for Arthramid
REFRESH-INTERVAL;VALUE=DURATION:PT1H
X-Robots-Tag:noindex
X-PUBLISHED-TTL:PT1H
BEGIN:VTIMEZONE
TZID:Pacific/Auckland
BEGIN:STANDARD
TZOFFSETFROM:+1300
TZOFFSETTO:+1200
TZNAME:NZST
DTSTART:20250405T140000
END:STANDARD
BEGIN:DAYLIGHT
TZOFFSETFROM:+1200
TZOFFSETTO:+1300
TZNAME:NZDT
DTSTART:20250927T140000
END:DAYLIGHT
END:VTIMEZONE
BEGIN:VEVENT
DTSTART;TZID=Pacific/Auckland:20251011T080000
DTEND;TZID=Pacific/Auckland:20251014T170000
DTSTAMP:20260424T114325
CREATED:20250903T034511Z
LAST-MODIFIED:20250923T012403Z
UID:9811-1760169600-1760461200@arthramid.com
SUMMARY:Contura at ICRS 2025
DESCRIPTION:This year’s International Cartilage Regeneration & Joint Preservation Society (ICRS) Congress\, taking place October 11-14\, will be a landmark gathering of the world’s leading experts\, researchers\, and clinicians advancing translational science in cartilage regeneration and joint preservation. \nSet in Boston\, the program features cutting-edge research\, interactive workshops\, and networking with pioneers in the field – driving dialogue that pushes the boundaries of joint repair and improves outcomes across species. \n  \nPresentations:\n \n\n\n\nThe Symptom-And Disease-modifying Effects Of Intra-articular 2.5% Polyacrylamide Gel In An Equine Preclinical Osteoarthrosis Model\nDr Erin Contino DVM\, DACVSMR\nSaturday\, October 11 at 8:00am EST poster \n  \n  \n\n  \n\n\nSynovial Transcriptomic Response To Intra-articular 2.5% Polyacrylamide Hydrogel In An Equine Osteoarthritis Model\nDr Lynn Pezzanite DVM\, MS\, PhD\, DACVS-LA\nSunday\, October 12 at 4:25pm EST podium \n  \n  \n\n  \n \n  \nShear Stiffness Of Equine Synovial Membrane In Osteoarthritis And Response To Polyacrylamide Hydrogel Treatment\nDr Markus Wimmer PhD \nSunday\, October 12 at 4:25pm EST podium \n 
URL:https://arthramid.com/ww/event/contura-at-icrs-2025/
LOCATION:Boston\, Massachusetts\, United States
CATEGORIES:EQUINE,IN-PERSON
ATTACH;FMTTYPE=image/png:https://arthramid.com/wp-content/uploads/ICRS-19-1.png
END:VEVENT
END:VCALENDAR