BEGIN:VCALENDAR
VERSION:2.0
PRODID:-//Arthramid - ECPv6.15.0//NONSGML v1.0//EN
CALSCALE:GREGORIAN
METHOD:PUBLISH
X-WR-CALNAME:Arthramid
X-ORIGINAL-URL:https://arthramid.com/ww/
X-WR-CALDESC:Events for Arthramid
REFRESH-INTERVAL;VALUE=DURATION:PT1H
X-Robots-Tag:noindex
X-PUBLISHED-TTL:PT1H
BEGIN:VTIMEZONE
TZID:America/New_York
BEGIN:DAYLIGHT
TZOFFSETFROM:-0500
TZOFFSETTO:-0400
TZNAME:EDT
DTSTART:20250309T070000
END:DAYLIGHT
BEGIN:STANDARD
TZOFFSETFROM:-0400
TZOFFSETTO:-0500
TZNAME:EST
DTSTART:20251102T060000
END:STANDARD
END:VTIMEZONE
BEGIN:VEVENT
DTSTART;TZID=America/New_York:20251106T200000
DTEND;TZID=America/New_York:20251106T210000
DTSTAMP:20260424T084941
CREATED:20250918T000703Z
LAST-MODIFIED:20251029T214705Z
UID:10201-1762459200-1762462800@arthramid.com
SUMMARY:Webinar: Practical uses of 2.5% iPAAG from an Equine Surgeons Perspective
DESCRIPTION:Join three of equine surgery’s most respected authorities for an evidence-based panel discussion exploring the clinical applications of 2.5% polyacrylamide hydrogel (Arthramid®) in equine joint therapy. This exclusive webinar offers a practical\, surgeon-centered perspective on how this innovative hydrogel technology is revolutionizing joint health management in performance horses. \n\nWhat You’ll Learn:\n\nClinical applications and case selection criteria for 2.5% iPAAG\nMechanism of action: How iPAAG supports joint function and increases elasticity\nIntegration strategies for both surgical settings and comprehensive OA management\nThe critical role of synovial lining in joint health and targeted therapy approaches\nReal-world case outcomes and practical implementation tips\nOptimizing performance outcomes in equine athletes\n\n  \nFeaturing an Expert Panel:\nDr. Lisa Fortier\, DVM\, PhD\, DACVS – Cornell University\nJames Law Professor of Surgery and Editor-in-Chief of the Journal of Cartilage and Joint Preservation. A leading authority in equine orthopedic surgery and regenerative medicine with over 200 scientific publications. \nDr. Kyla Ortved\, DVM\, PhD\, DACVS\, DACVSMR – University of Pennsylvania\nAssociate Professor of Large Animal Surgery and Jacques Jenny Endowed Chair of Orthopedic Surgery at New Bolton Center. Specializes in equine osteoarthritis pathophysiology and advanced cartilage repair therapies. \nDr. Wayne McIlwraith\, DVM\, PhD\, DACVS\, DACVSMR – Colorado State University\nUniversity Distinguished Professor and internationally recognized pioneer in equine orthopedic research. Co-author of five textbooks with over 400 publications and 600 presentations worldwide. \n\nWho Should Attend:\nThis webinar is tailored for equine veterinarians\, veterinary surgeons\, and veterinary professionals seeking to advance their understanding of innovative joint health management strategies. \nThis session will provide practical insights you can immediately apply in your equine practice\, whether you’re managing performance horses or developing comprehensive osteoarthritis treatment protocols. \nRegister now to secure your place in this exclusive educational opportunity.
URL:https://arthramid.com/ww/event/webinar-practical-uses-of-2-5-ipaag-from-an-equine-surgeons-perspective/
CATEGORIES:EQUINE,VIRTUAL
ATTACH;FMTTYPE=image/png:https://arthramid.com/wp-content/uploads/4197b300-907d-4b47-b44c-adc902a5bd92.png
END:VEVENT
END:VCALENDAR